0.5
0
0
-0.5
638404.168890644
4718334.08554689
