0.5
0
0
-0.5
638450.827849297
4716020.72245893
