0.5
0
0
-0.5
621433.535256918
4711069.77677251
