0.5
0
0
-0.5
624897.66206343
4708817.95231809
