0.5
0
0
-0.5
556493.629860975
4700969.8800371
