0.5
0
0
-0.5
566750.627277723
4703375.79459983
