0.5
0
0
-0.5
580452.002877935
4703524.00999956
