0.5
0
0
-0.5
583934.064081778
4698938.8978319
