0.5
0
0
-0.5
583962.417309794
4696625.75733572
