0.5
0
0
-0.5
594121.59036365
4706012.33362308
