0.5
0
0
-0.5
614705.503042118
4704012.06429301
