0.5
0
0
-0.5
611355.07681295
4699329.26782254
