0.5
0
0
-0.5
597677.41872618
4696807.52589641
