0.5
0
0
-0.5
597841.723237532
4685241.75913665
