0.5
0
0
-0.5
597874.531473078
4682928.61561131
