0.5
0
0
-0.5
618686.014168019
4671685.58826041
