1
0
0
-1
579879.221442224
4747556.02023436
