1
0
0
-1
613684.505458228
4761933.42785825
