1
0
0
-1
607113.153742801
4747939.90830029
