1
0
0
-1
627450.937219418
4752925.52249193
