1
0
0
-1
579991.268616874
4738302.45922551
