1
0
0
-1
573225.043857547
4733596.65798844
