1
0
0
-1
620897.23366525
4738918.9118308
