1
0
0
-1
627715.218990506
4739045.33333437
