1
0
0
-1
620980.634283049
4734292.23452444
