1
0
0
-1
661915.906520999
4735151.74446833
