1
0
0
-1
662026.916978059
4730525.1371197
