1
0
0
-1
621230.35988699
4720412.31837067
