1
0
0
-1
546133.866382418
4705589.34493411
