1
0
0
-1
649081.392005623
4697824.27768506
