1
0
0
-1
608148.577507468
4683168.34934784
