1
0
0
-1
608222.089273191
4678542.03372058
