1
0
0
-1
622223.189654526
4664895.17746954
