1
0
0
-1
594853.834205283
4650579.87382792
