1
0
0
-1
622469.992087041
4651016.65693484
