1
0
0
-1
629547.425841194
4641890.01158967
