1
0
0
-1
593234.585435418
4766242.02212743
