2.5
0
0
-2.5
606933.19597373
4752760.70064114
