2.5
0
0
-2.5
566488.468707813
4715191.63031642
