2.5
0
0
-2.5
607392.313280867
4725000.52345638
