2.5
0
0
-2.5
593859.30472613
4715535.19432148
