2.5
0
0
-2.5
621401.064970405
4706733.30528598
