2.5
0
0
-2.5
608303.838490973
4669483.62822084
