2.5
0
0
-2.5
619683.687818869
4799270.78612442
