0.5
0
0
-0.5
562870.240458835
4751923.09472655
