0.5
0
0
-0.5
559530.626717979
4744951.78135638
