0.5
0
0
-0.5
576475.734676357
4752064.31920062
