0.5
0
0
-0.5
586739.617995099
4747561.04617768
