0.5
0
0
-0.5
596950.664561128
4747699.93965245
