0.5
0
0
-0.5
654550.148647576
4760340.58995116
